BEGIN:VCALENDAR
VERSION:2.0
PRODID:-//DP Pro Event Calendar//2.7.0//EN
BEGIN:VEVENT
UID:cdc37cbf-9d22-4124-a4c5-467ab725fe17
DTSTART;TZID=America/New_York:20160803T230000
DTEND;TZID=America/New_York:20160803T230000
DTSTAMP:20160803T230000
SUMMARY:22nd Annual Clam Festival
DESCRIPTION:Free Admission &amp\; Parking - Succulent Seafood\, Beer/Wine Garden\, Thrill Rides\, Specialty Vendors\, Live Entertainment\, Contests &amp\; Bands!
LOCATION:Huddy Park\, Highlands\, NJ
URL:
END:VEVENT
END:VCALENDAR